BEGIN:VCALENDAR
VERSION:2.0
PRODID:-//wp-events-plugin.com//7.2.3.1//EN
TZID:America/New_York
X-WR-TIMEZONE:America/New_York
BEGIN:VEVENT
UID:9@sexyspider.xyz
DTSTART:20260220T030000Z
DTEND:20260306T030000Z
DTSTAMP:20260220T035952Z
URL:https://sexyspider.xyz/events/leo30%ef%bc%85off%e3%82%ad%e3%83%a3%e3%8
 3%b3%e3%83%9a%e3%83%bc%e3%83%b3/
SUMMARY:LEO30％OFFキャンペーン
DESCRIPTION:本日正午より、『LEO30％OFFキャンペーン』と題
 しまして、LEO×DUGAコラボキャンペーンを開催いたしま
 す。キャンペーン期間中は、「準新作」「旧作」が30％
 OFFのキャンペーン特別価格にて販売させていただきま
 す。\n\n⏰ キャンペーン期間： 2026年2月20日（金）正午 
 ～ 2026年3月6日（金）正午\n📢 キャンペーン対象： LEO
 の「準新作」「旧作」\nLEO\n
ATTACH;FMTTYPE=image/jpeg:https://sexyspider.xyz/wp-content/uploads/2026/0
 2/2204.png
END:VEVENT
END:VCALENDAR