BEGIN:VCALENDAR
VERSION:2.0
PRODID:-//wp-events-plugin.com//7.2.3.1//EN
TZID:America/New_York
X-WR-TIMEZONE:America/New_York
BEGIN:VEVENT
UID:8@sexyspider.xyz
DTSTART:20260221T053000Z
DTEND:20260222T143000Z
DTSTAMP:20260219T141923Z
URL:https://sexyspider.xyz/events/%e3%80%90dxlive%e3%80%91%e4%ba%ba%e6%b0%
 97%e3%83%91%e3%83%95%e3%82%a9%e3%83%bc%e3%83%9e%e3%83%bc%e3%80%8c%e3%81%bf
 %e3%81%8a%e3%81%a1%e3%82%83%e3%82%93%e3%80%8d%e9%80%b1%e6%9c%ab%e9%99%90%e
 5%ae%9a/
SUMMARY:【DXLIVE】人気パフォーマー「みおちゃん」週末限
 定スペシャル企画
DESCRIPTION:話題沸騰中のDXLIVE人気パフォーマー【みおちゃ
 ん】が、\n今週末限定のスペシャルチャットイベントを
 開催します！\n\n■ 開催日時\n・2月21日（土）14:30〜16:30
  / 22:30〜24:30頃\n・2月22日（日）15:00〜17:00 / 21:30〜23:30頃
 \n\n今回のテーマは――注目度抜群の「透明椅子」企画
 💺\n\n配信で使用する椅子がなんと！透明アクリル仕様
 。\n視覚的インパクトとシチュエーション性を兼ね備え
 た\nファン心理を強く刺激する特別イベントとなってお
 ります。\n\n🎁さらに今回は“参加者全員特典付き”の
 特別企画🎁\nイベント対象チャット中に小窓から「透
 明椅子」とコメントすると\n・みおちゃんの限定画像\n
 ・ポイントがお得に購入できるクーポン\nをみおちゃん
 からもれなくプレゼント！\n
ATTACH;FMTTYPE=image/jpeg:https://sexyspider.xyz/wp-content/uploads/2026/0
 2/2177.png
END:VEVENT
END:VCALENDAR